BEGIN:VCALENDAR
VERSION:2.0
PRODID:-//Prescott Bluebird Recovery Project - ECPv6.15.14//NONSGML v1.0//EN
CALSCALE:GREGORIAN
METHOD:PUBLISH
X-WR-CALNAME:Prescott Bluebird Recovery Project
X-ORIGINAL-URL:https://prescottbluebird.com
X-WR-CALDESC:Events for Prescott Bluebird Recovery Project
REFRESH-INTERVAL;VALUE=DURATION:PT1H
X-Robots-Tag:noindex
X-PUBLISHED-TTL:PT1H
BEGIN:VTIMEZONE
TZID:America/Los_Angeles
BEGIN:DAYLIGHT
TZOFFSETFROM:-0800
TZOFFSETTO:-0700
TZNAME:PDT
DTSTART:20250309T100000
END:DAYLIGHT
BEGIN:STANDARD
TZOFFSETFROM:-0700
TZOFFSETTO:-0800
TZNAME:PST
DTSTART:20251102T090000
END:STANDARD
BEGIN:DAYLIGHT
TZOFFSETFROM:-0800
TZOFFSETTO:-0700
TZNAME:PDT
DTSTART:20260308T100000
END:DAYLIGHT
BEGIN:STANDARD
TZOFFSETFROM:-0700
TZOFFSETTO:-0800
TZNAME:PST
DTSTART:20261101T090000
END:STANDARD
BEGIN:DAYLIGHT
TZOFFSETFROM:-0800
TZOFFSETTO:-0700
TZNAME:PDT
DTSTART:20270314T100000
END:DAYLIGHT
BEGIN:STANDARD
TZOFFSETFROM:-0700
TZOFFSETTO:-0800
TZNAME:PST
DTSTART:20271107T090000
END:STANDARD
END:VTIMEZONE
BEGIN:VEVENT
DTSTART;TZID=America/Los_Angeles:20260425T090000
DTEND;TZID=America/Los_Angeles:20260425T150000
DTSTAMP:20260421T053319
CREATED:20260328T223449Z
LAST-MODIFIED:20260328T223711Z
UID:2534-1777107600-1777129200@prescottbluebird.com
SUMMARY:Gladstone Arbor Day & Plant Sale
DESCRIPTION:Prescott Bluebird Recovery Project will be manning a table at this wonderful event. Please come by to say hello!\nJoin the Friends of Gladstone Nature Park on Saturday\, April 25\, 2026\, for our annual Gladstone Arbor Day & Plant Sale in the Nature Park\, 18111 Webster Road. The sale runs from 9am to 3pm. Featuring:\n\nOregon natives\nVegetable starts\nHanging baskets\nPerennials\nKitchen herbs\nMushroom grow-kits\nFree seeds for sharing\nFruit and berry plants\nLocal honey\nTool sharpening\nSoil testing\nFree kids books\nElectronics recycling\nConcessions\n\nMany special plants from Willamette Valley nurseries will be featured. The Clackamas County Library will offer their free seed collection. The Kraxberger Robotics team will recycle your electronics. Gladstone High School students are selling veggie starts and will offer herbs from their greenhouse program. Gladstone Baseball Association will have refreshments to purchase to support their teams. Mushroom-growing kits are returning and we will have our beautiful hanging baskets for Mother’s Day again.\n\nAre you planning a native garden or Backyard Habitat? We will have abundant varieties of native plants to get you started and support pollinators.\n\nMany other garden-related vendors are attending to help get your spring projects started. There will also be tool sharpening and soil testing. Bring your soil sample and learn more.\n\nThe event is free and parking for customers is available across the street at the LDS church on Cason Road 8331 Cason Rd. Please use the crosswalk. The park is served by TriMet bus lines 31 & 32.\n\nPlease remember to bring a couple of cans of food for our Gladstone Food Bank.\n\nProceeds from the sale support restoration projects in the Gladstone Nature Park.\n\nFor more information visit the web site: GladstoneNaturePark.org\, or contact us at FriendsOfGladstoneNature@gmailcom.
URL:https://prescottbluebird.com/event/gladstone-arbor-day-plant-sale/
LOCATION:Gladstone Nature Park\, 18111 Webster Road\, Gladstone\, OR\, 97027\, United States
CATEGORIES:Public
END:VEVENT
BEGIN:VEVENT
DTSTART;TZID=America/Los_Angeles:20260707T160000
DTEND;TZID=America/Los_Angeles:20260707T180000
DTSTAMP:20260421T053319
CREATED:20260309T224213Z
LAST-MODIFIED:20260310T203752Z
UID:2509-1783440000-1783447200@prescottbluebird.com
SUMMARY:Volunteer Happy Hour - West
DESCRIPTION:Save the Date! \nJoin fellow monitors for a casual Happy Hour at McMenamins Pub in West Linn. Connect mid-season\, share tips on what you’re seeing in the field\, and celebrate the work you’re doing for western bluebird populations across the Willamette Valley. \nWhether you’ve had a season full of fledglings or a few head-scratching nest checks\, we want to hear about it. This is a no-agenda gathering. Just good conversation\, good company\, and good beer in a great setting. \nAll bluebird monitors and conservation volunteers welcome. Feel free to bring your field notes\, your photos\, or just your stories.
URL:https://prescottbluebird.com/event/volunteer-happy-hour-west/
LOCATION:McMenamins West Linn Pub\, 2090 8th Ave\, West Linn\, OR\, 97068\, United States
CATEGORIES:Volunteer Only
END:VEVENT
BEGIN:VEVENT
DTSTART;TZID=America/Los_Angeles:20260709T160000
DTEND;TZID=America/Los_Angeles:20260709T180000
DTSTAMP:20260421T053319
CREATED:20260309T224421Z
LAST-MODIFIED:20260310T203301Z
UID:2512-1783612800-1783620000@prescottbluebird.com
SUMMARY:Volunteer Happy Hour - East
DESCRIPTION:Save the Date! \nJoin fellow monitors for a casual Happy Hour at McMenamins Pub in Sherwood. Connect mid-season\, share tips on what you’re seeing in the field\, and celebrate the work you’re doing for western bluebird populations across the Willamette Valley. \nWhether you’ve had a season full of fledglings or a few head-scratching nest checks\, we want to hear about it. This is a no-agenda gathering. Just good conversation\, good company\, and good beer in a great setting. \nAll bluebird monitors and conservation volunteers welcome. Feel free to bring your field notes\, your photos\, or just your stories.
URL:https://prescottbluebird.com/event/volunteer-happy-hour-east/
LOCATION:McMenamins Sherwood Pub\, 15976 SW Tualatin-Sherwood Rd\, Sherwood\, 97140\, United States
CATEGORIES:Volunteer Only
END:VEVENT
END:VCALENDAR